BEGIN:VCALENDAR
VERSION:2.0
PRODID:-//PBR4KY - ECPv6.15.16.1//NONSGML v1.0//EN
CALSCALE:GREGORIAN
METHOD:PUBLISH
X-WR-CALNAME:PBR4KY
X-ORIGINAL-URL:https://p.pbr4ky.com
X-WR-CALDESC:Events for PBR4KY
REFRESH-INTERVAL;VALUE=DURATION:PT1H
X-Robots-Tag:noindex
X-PUBLISHED-TTL:PT1H
BEGIN:VTIMEZONE
TZID:America/New_York
BEGIN:DAYLIGHT
TZOFFSETFROM:-0500
TZOFFSETTO:-0400
TZNAME:EDT
DTSTART:20290311T070000
END:DAYLIGHT
BEGIN:STANDARD
TZOFFSETFROM:-0400
TZOFFSETTO:-0500
TZNAME:EST
DTSTART:20291104T060000
END:STANDARD
BEGIN:DAYLIGHT
TZOFFSETFROM:-0500
TZOFFSETTO:-0400
TZNAME:EDT
DTSTART:20300310T070000
END:DAYLIGHT
BEGIN:STANDARD
TZOFFSETFROM:-0400
TZOFFSETTO:-0500
TZNAME:EST
DTSTART:20301103T060000
END:STANDARD
BEGIN:DAYLIGHT
TZOFFSETFROM:-0500
TZOFFSETTO:-0400
TZNAME:EDT
DTSTART:20310309T070000
END:DAYLIGHT
BEGIN:STANDARD
TZOFFSETFROM:-0400
TZOFFSETTO:-0500
TZNAME:EST
DTSTART:20311102T060000
END:STANDARD
BEGIN:DAYLIGHT
TZOFFSETFROM:-0500
TZOFFSETTO:-0400
TZNAME:EDT
DTSTART:20320314T070000
END:DAYLIGHT
BEGIN:STANDARD
TZOFFSETFROM:-0400
TZOFFSETTO:-0500
TZNAME:EST
DTSTART:20321107T060000
END:STANDARD
END:VTIMEZONE
BEGIN:VEVENT
DTSTART;TZID=America/New_York:20301130T130000
DTEND;TZID=America/New_York:20301130T150000
DTSTAMP:20260421T180418
CREATED:20251009T185020Z
LAST-MODIFIED:20251013T213831Z
UID:10001005-1922274000-1922281200@p.pbr4ky.com
SUMMARY:Saturday Afternoon Tea
DESCRIPTION:Come join us for one of our OG roadside protests! This has become our largest weekly protest and for good reason\, it’s a BLAST!! \nNo sign? No problem! We’ve got signs to spare!! \nSee you on the streets! \nIntersection of Sir Barton Way and Man O’ War Blvd
URL:https://p.pbr4ky.com/our_org_event/saturday-afternoon-tea/2030-11-30/
CATEGORIES:Members,Protest,Public
END:VEVENT
BEGIN:VEVENT
DTSTART;TZID=America/New_York:20301207T130000
DTEND;TZID=America/New_York:20301207T150000
DTSTAMP:20260421T180418
CREATED:20251009T185020Z
LAST-MODIFIED:20251013T213831Z
UID:10001006-1922878800-1922886000@p.pbr4ky.com
SUMMARY:Saturday Afternoon Tea
DESCRIPTION:Come join us for one of our OG roadside protests! This has become our largest weekly protest and for good reason\, it’s a BLAST!! \nNo sign? No problem! We’ve got signs to spare!! \nSee you on the streets! \nIntersection of Sir Barton Way and Man O’ War Blvd
URL:https://p.pbr4ky.com/our_org_event/saturday-afternoon-tea/2030-12-07/
CATEGORIES:Members,Protest,Public
END:VEVENT
BEGIN:VEVENT
DTSTART;TZID=America/New_York:20301214T130000
DTEND;TZID=America/New_York:20301214T150000
DTSTAMP:20260421T180418
CREATED:20251009T185020Z
LAST-MODIFIED:20251013T213831Z
UID:10001007-1923483600-1923490800@p.pbr4ky.com
SUMMARY:Saturday Afternoon Tea
DESCRIPTION:Come join us for one of our OG roadside protests! This has become our largest weekly protest and for good reason\, it’s a BLAST!! \nNo sign? No problem! We’ve got signs to spare!! \nSee you on the streets! \nIntersection of Sir Barton Way and Man O’ War Blvd
URL:https://p.pbr4ky.com/our_org_event/saturday-afternoon-tea/2030-12-14/
CATEGORIES:Members,Protest,Public
END:VEVENT
BEGIN:VEVENT
DTSTART;TZID=America/New_York:20301221T130000
DTEND;TZID=America/New_York:20301221T150000
DTSTAMP:20260421T180418
CREATED:20251009T185020Z
LAST-MODIFIED:20251013T213831Z
UID:10001068-1924088400-1924095600@p.pbr4ky.com
SUMMARY:Saturday Afternoon Tea
DESCRIPTION:Come join us for one of our OG roadside protests! This has become our largest weekly protest and for good reason\, it’s a BLAST!! \nNo sign? No problem! We’ve got signs to spare!! \nSee you on the streets! \nIntersection of Sir Barton Way and Man O’ War Blvd
URL:https://p.pbr4ky.com/our_org_event/saturday-afternoon-tea/2030-12-21/
CATEGORIES:Members,Protest,Public
END:VEVENT
BEGIN:VEVENT
DTSTART;TZID=America/New_York:20301228T130000
DTEND;TZID=America/New_York:20301228T150000
DTSTAMP:20260421T180418
CREATED:20251009T185020Z
LAST-MODIFIED:20251013T213831Z
UID:10001069-1924693200-1924700400@p.pbr4ky.com
SUMMARY:Saturday Afternoon Tea
DESCRIPTION:Come join us for one of our OG roadside protests! This has become our largest weekly protest and for good reason\, it’s a BLAST!! \nNo sign? No problem! We’ve got signs to spare!! \nSee you on the streets! \nIntersection of Sir Barton Way and Man O’ War Blvd
URL:https://p.pbr4ky.com/our_org_event/saturday-afternoon-tea/2030-12-28/
CATEGORIES:Members,Protest,Public
END:VEVENT
BEGIN:VEVENT
DTSTART;TZID=America/New_York:20310104T130000
DTEND;TZID=America/New_York:20310104T150000
DTSTAMP:20260421T180418
CREATED:20251009T185020Z
LAST-MODIFIED:20251013T213831Z
UID:10001070-1925298000-1925305200@p.pbr4ky.com
SUMMARY:Saturday Afternoon Tea
DESCRIPTION:Come join us for one of our OG roadside protests! This has become our largest weekly protest and for good reason\, it’s a BLAST!! \nNo sign? No problem! We’ve got signs to spare!! \nSee you on the streets! \nIntersection of Sir Barton Way and Man O’ War Blvd
URL:https://p.pbr4ky.com/our_org_event/saturday-afternoon-tea/2031-01-04/
CATEGORIES:Members,Protest,Public
END:VEVENT
BEGIN:VEVENT
DTSTART;TZID=America/New_York:20310111T130000
DTEND;TZID=America/New_York:20310111T150000
DTSTAMP:20260421T180418
CREATED:20251009T185020Z
LAST-MODIFIED:20251013T213831Z
UID:10001074-1925902800-1925910000@p.pbr4ky.com
SUMMARY:Saturday Afternoon Tea
DESCRIPTION:Come join us for one of our OG roadside protests! This has become our largest weekly protest and for good reason\, it’s a BLAST!! \nNo sign? No problem! We’ve got signs to spare!! \nSee you on the streets! \nIntersection of Sir Barton Way and Man O’ War Blvd
URL:https://p.pbr4ky.com/our_org_event/saturday-afternoon-tea/2031-01-11/
CATEGORIES:Members,Protest,Public
END:VEVENT
BEGIN:VEVENT
DTSTART;TZID=America/New_York:20310118T130000
DTEND;TZID=America/New_York:20310118T150000
DTSTAMP:20260421T180418
CREATED:20251009T185020Z
LAST-MODIFIED:20251013T213831Z
UID:10001075-1926507600-1926514800@p.pbr4ky.com
SUMMARY:Saturday Afternoon Tea
DESCRIPTION:Come join us for one of our OG roadside protests! This has become our largest weekly protest and for good reason\, it’s a BLAST!! \nNo sign? No problem! We’ve got signs to spare!! \nSee you on the streets! \nIntersection of Sir Barton Way and Man O’ War Blvd
URL:https://p.pbr4ky.com/our_org_event/saturday-afternoon-tea/2031-01-18/
CATEGORIES:Members,Protest,Public
END:VEVENT
BEGIN:VEVENT
DTSTART;TZID=America/New_York:20310125T130000
DTEND;TZID=America/New_York:20310125T150000
DTSTAMP:20260421T180418
CREATED:20251009T185020Z
LAST-MODIFIED:20251013T213831Z
UID:10001076-1927112400-1927119600@p.pbr4ky.com
SUMMARY:Saturday Afternoon Tea
DESCRIPTION:Come join us for one of our OG roadside protests! This has become our largest weekly protest and for good reason\, it’s a BLAST!! \nNo sign? No problem! We’ve got signs to spare!! \nSee you on the streets! \nIntersection of Sir Barton Way and Man O’ War Blvd
URL:https://p.pbr4ky.com/our_org_event/saturday-afternoon-tea/2031-01-25/
CATEGORIES:Members,Protest,Public
END:VEVENT
BEGIN:VEVENT
DTSTART;TZID=America/New_York:20310201T130000
DTEND;TZID=America/New_York:20310201T150000
DTSTAMP:20260421T180418
CREATED:20251009T185020Z
LAST-MODIFIED:20251013T213831Z
UID:10001090-1927717200-1927724400@p.pbr4ky.com
SUMMARY:Saturday Afternoon Tea
DESCRIPTION:Come join us for one of our OG roadside protests! This has become our largest weekly protest and for good reason\, it’s a BLAST!! \nNo sign? No problem! We’ve got signs to spare!! \nSee you on the streets! \nIntersection of Sir Barton Way and Man O’ War Blvd
URL:https://p.pbr4ky.com/our_org_event/saturday-afternoon-tea/2031-02-01/
CATEGORIES:Members,Protest,Public
END:VEVENT
BEGIN:VEVENT
DTSTART;TZID=America/New_York:20310208T130000
DTEND;TZID=America/New_York:20310208T150000
DTSTAMP:20260421T180418
CREATED:20251009T185020Z
LAST-MODIFIED:20251013T213831Z
UID:10001091-1928322000-1928329200@p.pbr4ky.com
SUMMARY:Saturday Afternoon Tea
DESCRIPTION:Come join us for one of our OG roadside protests! This has become our largest weekly protest and for good reason\, it’s a BLAST!! \nNo sign? No problem! We’ve got signs to spare!! \nSee you on the streets! \nIntersection of Sir Barton Way and Man O’ War Blvd
URL:https://p.pbr4ky.com/our_org_event/saturday-afternoon-tea/2031-02-08/
CATEGORIES:Members,Protest,Public
END:VEVENT
BEGIN:VEVENT
DTSTART;TZID=America/New_York:20310215T130000
DTEND;TZID=America/New_York:20310215T150000
DTSTAMP:20260421T180418
CREATED:20251009T185020Z
LAST-MODIFIED:20251013T213831Z
UID:10001092-1928926800-1928934000@p.pbr4ky.com
SUMMARY:Saturday Afternoon Tea
DESCRIPTION:Come join us for one of our OG roadside protests! This has become our largest weekly protest and for good reason\, it’s a BLAST!! \nNo sign? No problem! We’ve got signs to spare!! \nSee you on the streets! \nIntersection of Sir Barton Way and Man O’ War Blvd
URL:https://p.pbr4ky.com/our_org_event/saturday-afternoon-tea/2031-02-15/
CATEGORIES:Members,Protest,Public
END:VEVENT
BEGIN:VEVENT
DTSTART;TZID=America/New_York:20310222T130000
DTEND;TZID=America/New_York:20310222T150000
DTSTAMP:20260421T180418
CREATED:20251009T185020Z
LAST-MODIFIED:20251013T213831Z
UID:10001093-1929531600-1929538800@p.pbr4ky.com
SUMMARY:Saturday Afternoon Tea
DESCRIPTION:Come join us for one of our OG roadside protests! This has become our largest weekly protest and for good reason\, it’s a BLAST!! \nNo sign? No problem! We’ve got signs to spare!! \nSee you on the streets! \nIntersection of Sir Barton Way and Man O’ War Blvd
URL:https://p.pbr4ky.com/our_org_event/saturday-afternoon-tea/2031-02-22/
CATEGORIES:Members,Protest,Public
END:VEVENT
BEGIN:VEVENT
DTSTART;TZID=America/New_York:20310301T130000
DTEND;TZID=America/New_York:20310301T150000
DTSTAMP:20260421T180418
CREATED:20251009T185020Z
LAST-MODIFIED:20251013T213831Z
UID:10001094-1930136400-1930143600@p.pbr4ky.com
SUMMARY:Saturday Afternoon Tea
DESCRIPTION:Come join us for one of our OG roadside protests! This has become our largest weekly protest and for good reason\, it’s a BLAST!! \nNo sign? No problem! We’ve got signs to spare!! \nSee you on the streets! \nIntersection of Sir Barton Way and Man O’ War Blvd
URL:https://p.pbr4ky.com/our_org_event/saturday-afternoon-tea/2031-03-01/
CATEGORIES:Members,Protest,Public
END:VEVENT
BEGIN:VEVENT
DTSTART;TZID=America/New_York:20310308T130000
DTEND;TZID=America/New_York:20310308T150000
DTSTAMP:20260421T180418
CREATED:20251009T185020Z
LAST-MODIFIED:20251013T213831Z
UID:10001095-1930741200-1930748400@p.pbr4ky.com
SUMMARY:Saturday Afternoon Tea
DESCRIPTION:Come join us for one of our OG roadside protests! This has become our largest weekly protest and for good reason\, it’s a BLAST!! \nNo sign? No problem! We’ve got signs to spare!! \nSee you on the streets! \nIntersection of Sir Barton Way and Man O’ War Blvd
URL:https://p.pbr4ky.com/our_org_event/saturday-afternoon-tea/2031-03-08/
CATEGORIES:Members,Protest,Public
END:VEVENT
BEGIN:VEVENT
DTSTART;TZID=America/New_York:20310315T130000
DTEND;TZID=America/New_York:20310315T150000
DTSTAMP:20260421T180418
CREATED:20251009T185020Z
LAST-MODIFIED:20251013T213831Z
UID:10001096-1931346000-1931353200@p.pbr4ky.com
SUMMARY:Saturday Afternoon Tea
DESCRIPTION:Come join us for one of our OG roadside protests! This has become our largest weekly protest and for good reason\, it’s a BLAST!! \nNo sign? No problem! We’ve got signs to spare!! \nSee you on the streets! \nIntersection of Sir Barton Way and Man O’ War Blvd
URL:https://p.pbr4ky.com/our_org_event/saturday-afternoon-tea/2031-03-15/
CATEGORIES:Members,Protest,Public
END:VEVENT
BEGIN:VEVENT
DTSTART;TZID=America/New_York:20310322T130000
DTEND;TZID=America/New_York:20310322T150000
DTSTAMP:20260421T180418
CREATED:20251009T185020Z
LAST-MODIFIED:20251013T213831Z
UID:10001097-1931950800-1931958000@p.pbr4ky.com
SUMMARY:Saturday Afternoon Tea
DESCRIPTION:Come join us for one of our OG roadside protests! This has become our largest weekly protest and for good reason\, it’s a BLAST!! \nNo sign? No problem! We’ve got signs to spare!! \nSee you on the streets! \nIntersection of Sir Barton Way and Man O’ War Blvd
URL:https://p.pbr4ky.com/our_org_event/saturday-afternoon-tea/2031-03-22/
CATEGORIES:Members,Protest,Public
END:VEVENT
BEGIN:VEVENT
DTSTART;TZID=America/New_York:20310329T130000
DTEND;TZID=America/New_York:20310329T150000
DTSTAMP:20260421T180418
CREATED:20251009T185020Z
LAST-MODIFIED:20251013T213831Z
UID:10001098-1932555600-1932562800@p.pbr4ky.com
SUMMARY:Saturday Afternoon Tea
DESCRIPTION:Come join us for one of our OG roadside protests! This has become our largest weekly protest and for good reason\, it’s a BLAST!! \nNo sign? No problem! We’ve got signs to spare!! \nSee you on the streets! \nIntersection of Sir Barton Way and Man O’ War Blvd
URL:https://p.pbr4ky.com/our_org_event/saturday-afternoon-tea/2031-03-29/
CATEGORIES:Members,Protest,Public
END:VEVENT
BEGIN:VEVENT
DTSTART;TZID=America/New_York:20310405T130000
DTEND;TZID=America/New_York:20310405T150000
DTSTAMP:20260421T180418
CREATED:20251009T185020Z
LAST-MODIFIED:20251013T213831Z
UID:10001099-1933160400-1933167600@p.pbr4ky.com
SUMMARY:Saturday Afternoon Tea
DESCRIPTION:Come join us for one of our OG roadside protests! This has become our largest weekly protest and for good reason\, it’s a BLAST!! \nNo sign? No problem! We’ve got signs to spare!! \nSee you on the streets! \nIntersection of Sir Barton Way and Man O’ War Blvd
URL:https://p.pbr4ky.com/our_org_event/saturday-afternoon-tea/2031-04-05/
CATEGORIES:Members,Protest,Public
END:VEVENT
BEGIN:VEVENT
DTSTART;TZID=America/New_York:20310412T130000
DTEND;TZID=America/New_York:20310412T150000
DTSTAMP:20260421T180418
CREATED:20251009T185020Z
LAST-MODIFIED:20251013T213831Z
UID:10001100-1933765200-1933772400@p.pbr4ky.com
SUMMARY:Saturday Afternoon Tea
DESCRIPTION:Come join us for one of our OG roadside protests! This has become our largest weekly protest and for good reason\, it’s a BLAST!! \nNo sign? No problem! We’ve got signs to spare!! \nSee you on the streets! \nIntersection of Sir Barton Way and Man O’ War Blvd
URL:https://p.pbr4ky.com/our_org_event/saturday-afternoon-tea/2031-04-12/
CATEGORIES:Members,Protest,Public
END:VEVENT
END:VCALENDAR