BEGIN:VCALENDAR
VERSION:2.0
PRODID:-//PBR4KY - ECPv6.15.16.1//NONSGML v1.0//EN
CALSCALE:GREGORIAN
METHOD:PUBLISH
X-WR-CALNAME:PBR4KY
X-ORIGINAL-URL:https://p.pbr4ky.com
X-WR-CALDESC:Events for PBR4KY
REFRESH-INTERVAL;VALUE=DURATION:PT1H
X-Robots-Tag:noindex
X-PUBLISHED-TTL:PT1H
BEGIN:VTIMEZONE
TZID:America/New_York
BEGIN:DAYLIGHT
TZOFFSETFROM:-0500
TZOFFSETTO:-0400
TZNAME:EDT
DTSTART:20290311T070000
END:DAYLIGHT
BEGIN:STANDARD
TZOFFSETFROM:-0400
TZOFFSETTO:-0500
TZNAME:EST
DTSTART:20291104T060000
END:STANDARD
BEGIN:DAYLIGHT
TZOFFSETFROM:-0500
TZOFFSETTO:-0400
TZNAME:EDT
DTSTART:20300310T070000
END:DAYLIGHT
BEGIN:STANDARD
TZOFFSETFROM:-0400
TZOFFSETTO:-0500
TZNAME:EST
DTSTART:20301103T060000
END:STANDARD
BEGIN:DAYLIGHT
TZOFFSETFROM:-0500
TZOFFSETTO:-0400
TZNAME:EDT
DTSTART:20310309T070000
END:DAYLIGHT
BEGIN:STANDARD
TZOFFSETFROM:-0400
TZOFFSETTO:-0500
TZNAME:EST
DTSTART:20311102T060000
END:STANDARD
END:VTIMEZONE
BEGIN:VEVENT
DTSTART;TZID=America/New_York:20300320T120000
DTEND;TZID=America/New_York:20300320T130000
DTSTAMP:20260420T041419
CREATED:20251202T163704Z
LAST-MODIFIED:20251202T163706Z
UID:10000869-1900238400-1900242000@p.pbr4ky.com
SUMMARY:Support Our Veterans and the VA!
DESCRIPTION:PARKING: Downtown parking can be hard to find\, but you can park for 2 hours at the library with a validated ticket. Sometimes the library garage is also just open to the public\, and you may be able to find on street parking in several places.
URL:https://p.pbr4ky.com/our_org_event/support-our-veterans-and-the-va-5/2030-03-20/
LOCATION:Robert F. Stephens Courthouse Plaza\, 120 N Limestone\, Lexington\, KY\, 40507\, United States
CATEGORIES:Members,Protest,Public
END:VEVENT
BEGIN:VEVENT
DTSTART;TZID=America/New_York:20300327T120000
DTEND;TZID=America/New_York:20300327T130000
DTSTAMP:20260420T041419
CREATED:20251202T163704Z
LAST-MODIFIED:20251202T163706Z
UID:10000870-1900843200-1900846800@p.pbr4ky.com
SUMMARY:Support Our Veterans and the VA!
DESCRIPTION:PARKING: Downtown parking can be hard to find\, but you can park for 2 hours at the library with a validated ticket. Sometimes the library garage is also just open to the public\, and you may be able to find on street parking in several places.
URL:https://p.pbr4ky.com/our_org_event/support-our-veterans-and-the-va-5/2030-03-27/
LOCATION:Robert F. Stephens Courthouse Plaza\, 120 N Limestone\, Lexington\, KY\, 40507\, United States
CATEGORIES:Members,Protest,Public
END:VEVENT
BEGIN:VEVENT
DTSTART;TZID=America/New_York:20300403T120000
DTEND;TZID=America/New_York:20300403T130000
DTSTAMP:20260420T041419
CREATED:20251202T163704Z
LAST-MODIFIED:20251202T163706Z
UID:10000871-1901448000-1901451600@p.pbr4ky.com
SUMMARY:Support Our Veterans and the VA!
DESCRIPTION:PARKING: Downtown parking can be hard to find\, but you can park for 2 hours at the library with a validated ticket. Sometimes the library garage is also just open to the public\, and you may be able to find on street parking in several places.
URL:https://p.pbr4ky.com/our_org_event/support-our-veterans-and-the-va-5/2030-04-03/
LOCATION:Robert F. Stephens Courthouse Plaza\, 120 N Limestone\, Lexington\, KY\, 40507\, United States
CATEGORIES:Members,Protest,Public
END:VEVENT
BEGIN:VEVENT
DTSTART;TZID=America/New_York:20300410T120000
DTEND;TZID=America/New_York:20300410T130000
DTSTAMP:20260420T041419
CREATED:20251202T163704Z
LAST-MODIFIED:20251202T163706Z
UID:10000872-1902052800-1902056400@p.pbr4ky.com
SUMMARY:Support Our Veterans and the VA!
DESCRIPTION:PARKING: Downtown parking can be hard to find\, but you can park for 2 hours at the library with a validated ticket. Sometimes the library garage is also just open to the public\, and you may be able to find on street parking in several places.
URL:https://p.pbr4ky.com/our_org_event/support-our-veterans-and-the-va-5/2030-04-10/
LOCATION:Robert F. Stephens Courthouse Plaza\, 120 N Limestone\, Lexington\, KY\, 40507\, United States
CATEGORIES:Members,Protest,Public
END:VEVENT
BEGIN:VEVENT
DTSTART;TZID=America/New_York:20300417T120000
DTEND;TZID=America/New_York:20300417T130000
DTSTAMP:20260420T041419
CREATED:20251202T163704Z
LAST-MODIFIED:20251202T163706Z
UID:10000873-1902657600-1902661200@p.pbr4ky.com
SUMMARY:Support Our Veterans and the VA!
DESCRIPTION:PARKING: Downtown parking can be hard to find\, but you can park for 2 hours at the library with a validated ticket. Sometimes the library garage is also just open to the public\, and you may be able to find on street parking in several places.
URL:https://p.pbr4ky.com/our_org_event/support-our-veterans-and-the-va-5/2030-04-17/
LOCATION:Robert F. Stephens Courthouse Plaza\, 120 N Limestone\, Lexington\, KY\, 40507\, United States
CATEGORIES:Members,Protest,Public
END:VEVENT
BEGIN:VEVENT
DTSTART;TZID=America/New_York:20300424T120000
DTEND;TZID=America/New_York:20300424T130000
DTSTAMP:20260420T041419
CREATED:20251202T163704Z
LAST-MODIFIED:20251202T163706Z
UID:10000874-1903262400-1903266000@p.pbr4ky.com
SUMMARY:Support Our Veterans and the VA!
DESCRIPTION:PARKING: Downtown parking can be hard to find\, but you can park for 2 hours at the library with a validated ticket. Sometimes the library garage is also just open to the public\, and you may be able to find on street parking in several places.
URL:https://p.pbr4ky.com/our_org_event/support-our-veterans-and-the-va-5/2030-04-24/
LOCATION:Robert F. Stephens Courthouse Plaza\, 120 N Limestone\, Lexington\, KY\, 40507\, United States
CATEGORIES:Members,Protest,Public
END:VEVENT
BEGIN:VEVENT
DTSTART;TZID=America/New_York:20300501T120000
DTEND;TZID=America/New_York:20300501T130000
DTSTAMP:20260420T041419
CREATED:20251202T163704Z
LAST-MODIFIED:20251202T163706Z
UID:10000875-1903867200-1903870800@p.pbr4ky.com
SUMMARY:Support Our Veterans and the VA!
DESCRIPTION:PARKING: Downtown parking can be hard to find\, but you can park for 2 hours at the library with a validated ticket. Sometimes the library garage is also just open to the public\, and you may be able to find on street parking in several places.
URL:https://p.pbr4ky.com/our_org_event/support-our-veterans-and-the-va-5/2030-05-01/
LOCATION:Robert F. Stephens Courthouse Plaza\, 120 N Limestone\, Lexington\, KY\, 40507\, United States
CATEGORIES:Members,Protest,Public
END:VEVENT
BEGIN:VEVENT
DTSTART;TZID=America/New_York:20300508T120000
DTEND;TZID=America/New_York:20300508T130000
DTSTAMP:20260420T041419
CREATED:20251202T163704Z
LAST-MODIFIED:20251202T163706Z
UID:10000876-1904472000-1904475600@p.pbr4ky.com
SUMMARY:Support Our Veterans and the VA!
DESCRIPTION:PARKING: Downtown parking can be hard to find\, but you can park for 2 hours at the library with a validated ticket. Sometimes the library garage is also just open to the public\, and you may be able to find on street parking in several places.
URL:https://p.pbr4ky.com/our_org_event/support-our-veterans-and-the-va-5/2030-05-08/
LOCATION:Robert F. Stephens Courthouse Plaza\, 120 N Limestone\, Lexington\, KY\, 40507\, United States
CATEGORIES:Members,Protest,Public
END:VEVENT
BEGIN:VEVENT
DTSTART;TZID=America/New_York:20300515T120000
DTEND;TZID=America/New_York:20300515T130000
DTSTAMP:20260420T041419
CREATED:20251202T163704Z
LAST-MODIFIED:20251202T163706Z
UID:10000877-1905076800-1905080400@p.pbr4ky.com
SUMMARY:Support Our Veterans and the VA!
DESCRIPTION:PARKING: Downtown parking can be hard to find\, but you can park for 2 hours at the library with a validated ticket. Sometimes the library garage is also just open to the public\, and you may be able to find on street parking in several places.
URL:https://p.pbr4ky.com/our_org_event/support-our-veterans-and-the-va-5/2030-05-15/
LOCATION:Robert F. Stephens Courthouse Plaza\, 120 N Limestone\, Lexington\, KY\, 40507\, United States
CATEGORIES:Members,Protest,Public
END:VEVENT
BEGIN:VEVENT
DTSTART;TZID=America/New_York:20300522T120000
DTEND;TZID=America/New_York:20300522T130000
DTSTAMP:20260420T041419
CREATED:20251202T163704Z
LAST-MODIFIED:20251202T163706Z
UID:10000878-1905681600-1905685200@p.pbr4ky.com
SUMMARY:Support Our Veterans and the VA!
DESCRIPTION:PARKING: Downtown parking can be hard to find\, but you can park for 2 hours at the library with a validated ticket. Sometimes the library garage is also just open to the public\, and you may be able to find on street parking in several places.
URL:https://p.pbr4ky.com/our_org_event/support-our-veterans-and-the-va-5/2030-05-22/
LOCATION:Robert F. Stephens Courthouse Plaza\, 120 N Limestone\, Lexington\, KY\, 40507\, United States
CATEGORIES:Members,Protest,Public
END:VEVENT
BEGIN:VEVENT
DTSTART;TZID=America/New_York:20300529T120000
DTEND;TZID=America/New_York:20300529T130000
DTSTAMP:20260420T041419
CREATED:20251202T163704Z
LAST-MODIFIED:20251202T163706Z
UID:10000879-1906286400-1906290000@p.pbr4ky.com
SUMMARY:Support Our Veterans and the VA!
DESCRIPTION:PARKING: Downtown parking can be hard to find\, but you can park for 2 hours at the library with a validated ticket. Sometimes the library garage is also just open to the public\, and you may be able to find on street parking in several places.
URL:https://p.pbr4ky.com/our_org_event/support-our-veterans-and-the-va-5/2030-05-29/
LOCATION:Robert F. Stephens Courthouse Plaza\, 120 N Limestone\, Lexington\, KY\, 40507\, United States
CATEGORIES:Members,Protest,Public
END:VEVENT
BEGIN:VEVENT
DTSTART;TZID=America/New_York:20300605T120000
DTEND;TZID=America/New_York:20300605T130000
DTSTAMP:20260420T041419
CREATED:20251202T163704Z
LAST-MODIFIED:20251202T163706Z
UID:10000880-1906891200-1906894800@p.pbr4ky.com
SUMMARY:Support Our Veterans and the VA!
DESCRIPTION:PARKING: Downtown parking can be hard to find\, but you can park for 2 hours at the library with a validated ticket. Sometimes the library garage is also just open to the public\, and you may be able to find on street parking in several places.
URL:https://p.pbr4ky.com/our_org_event/support-our-veterans-and-the-va-5/2030-06-05/
LOCATION:Robert F. Stephens Courthouse Plaza\, 120 N Limestone\, Lexington\, KY\, 40507\, United States
CATEGORIES:Members,Protest,Public
END:VEVENT
BEGIN:VEVENT
DTSTART;TZID=America/New_York:20300612T120000
DTEND;TZID=America/New_York:20300612T130000
DTSTAMP:20260420T041419
CREATED:20251202T163704Z
LAST-MODIFIED:20251202T163706Z
UID:10000881-1907496000-1907499600@p.pbr4ky.com
SUMMARY:Support Our Veterans and the VA!
DESCRIPTION:PARKING: Downtown parking can be hard to find\, but you can park for 2 hours at the library with a validated ticket. Sometimes the library garage is also just open to the public\, and you may be able to find on street parking in several places.
URL:https://p.pbr4ky.com/our_org_event/support-our-veterans-and-the-va-5/2030-06-12/
LOCATION:Robert F. Stephens Courthouse Plaza\, 120 N Limestone\, Lexington\, KY\, 40507\, United States
CATEGORIES:Members,Protest,Public
END:VEVENT
BEGIN:VEVENT
DTSTART;TZID=America/New_York:20300619T120000
DTEND;TZID=America/New_York:20300619T130000
DTSTAMP:20260420T041419
CREATED:20251202T163704Z
LAST-MODIFIED:20251202T163706Z
UID:10000882-1908100800-1908104400@p.pbr4ky.com
SUMMARY:Support Our Veterans and the VA!
DESCRIPTION:PARKING: Downtown parking can be hard to find\, but you can park for 2 hours at the library with a validated ticket. Sometimes the library garage is also just open to the public\, and you may be able to find on street parking in several places.
URL:https://p.pbr4ky.com/our_org_event/support-our-veterans-and-the-va-5/2030-06-19/
LOCATION:Robert F. Stephens Courthouse Plaza\, 120 N Limestone\, Lexington\, KY\, 40507\, United States
CATEGORIES:Members,Protest,Public
END:VEVENT
BEGIN:VEVENT
DTSTART;TZID=America/New_York:20300626T120000
DTEND;TZID=America/New_York:20300626T130000
DTSTAMP:20260420T041419
CREATED:20251202T163704Z
LAST-MODIFIED:20251202T163706Z
UID:10000883-1908705600-1908709200@p.pbr4ky.com
SUMMARY:Support Our Veterans and the VA!
DESCRIPTION:PARKING: Downtown parking can be hard to find\, but you can park for 2 hours at the library with a validated ticket. Sometimes the library garage is also just open to the public\, and you may be able to find on street parking in several places.
URL:https://p.pbr4ky.com/our_org_event/support-our-veterans-and-the-va-5/2030-06-26/
LOCATION:Robert F. Stephens Courthouse Plaza\, 120 N Limestone\, Lexington\, KY\, 40507\, United States
CATEGORIES:Members,Protest,Public
END:VEVENT
BEGIN:VEVENT
DTSTART;TZID=America/New_York:20300703T120000
DTEND;TZID=America/New_York:20300703T130000
DTSTAMP:20260420T041419
CREATED:20251202T163704Z
LAST-MODIFIED:20251202T163706Z
UID:10000884-1909310400-1909314000@p.pbr4ky.com
SUMMARY:Support Our Veterans and the VA!
DESCRIPTION:PARKING: Downtown parking can be hard to find\, but you can park for 2 hours at the library with a validated ticket. Sometimes the library garage is also just open to the public\, and you may be able to find on street parking in several places.
URL:https://p.pbr4ky.com/our_org_event/support-our-veterans-and-the-va-5/2030-07-03/
LOCATION:Robert F. Stephens Courthouse Plaza\, 120 N Limestone\, Lexington\, KY\, 40507\, United States
CATEGORIES:Members,Protest,Public
END:VEVENT
BEGIN:VEVENT
DTSTART;TZID=America/New_York:20300710T120000
DTEND;TZID=America/New_York:20300710T130000
DTSTAMP:20260420T041419
CREATED:20251202T163704Z
LAST-MODIFIED:20251202T163706Z
UID:10000885-1909915200-1909918800@p.pbr4ky.com
SUMMARY:Support Our Veterans and the VA!
DESCRIPTION:PARKING: Downtown parking can be hard to find\, but you can park for 2 hours at the library with a validated ticket. Sometimes the library garage is also just open to the public\, and you may be able to find on street parking in several places.
URL:https://p.pbr4ky.com/our_org_event/support-our-veterans-and-the-va-5/2030-07-10/
LOCATION:Robert F. Stephens Courthouse Plaza\, 120 N Limestone\, Lexington\, KY\, 40507\, United States
CATEGORIES:Members,Protest,Public
END:VEVENT
BEGIN:VEVENT
DTSTART;TZID=America/New_York:20300717T120000
DTEND;TZID=America/New_York:20300717T130000
DTSTAMP:20260420T041419
CREATED:20251202T163704Z
LAST-MODIFIED:20251202T163706Z
UID:10000886-1910520000-1910523600@p.pbr4ky.com
SUMMARY:Support Our Veterans and the VA!
DESCRIPTION:PARKING: Downtown parking can be hard to find\, but you can park for 2 hours at the library with a validated ticket. Sometimes the library garage is also just open to the public\, and you may be able to find on street parking in several places.
URL:https://p.pbr4ky.com/our_org_event/support-our-veterans-and-the-va-5/2030-07-17/
LOCATION:Robert F. Stephens Courthouse Plaza\, 120 N Limestone\, Lexington\, KY\, 40507\, United States
CATEGORIES:Members,Protest,Public
END:VEVENT
BEGIN:VEVENT
DTSTART;TZID=America/New_York:20300724T120000
DTEND;TZID=America/New_York:20300724T130000
DTSTAMP:20260420T041419
CREATED:20251202T163704Z
LAST-MODIFIED:20251202T163706Z
UID:10000887-1911124800-1911128400@p.pbr4ky.com
SUMMARY:Support Our Veterans and the VA!
DESCRIPTION:PARKING: Downtown parking can be hard to find\, but you can park for 2 hours at the library with a validated ticket. Sometimes the library garage is also just open to the public\, and you may be able to find on street parking in several places.
URL:https://p.pbr4ky.com/our_org_event/support-our-veterans-and-the-va-5/2030-07-24/
LOCATION:Robert F. Stephens Courthouse Plaza\, 120 N Limestone\, Lexington\, KY\, 40507\, United States
CATEGORIES:Members,Protest,Public
END:VEVENT
BEGIN:VEVENT
DTSTART;TZID=America/New_York:20300731T120000
DTEND;TZID=America/New_York:20300731T130000
DTSTAMP:20260420T041419
CREATED:20251202T163704Z
LAST-MODIFIED:20251202T163706Z
UID:10000888-1911729600-1911733200@p.pbr4ky.com
SUMMARY:Support Our Veterans and the VA!
DESCRIPTION:PARKING: Downtown parking can be hard to find\, but you can park for 2 hours at the library with a validated ticket. Sometimes the library garage is also just open to the public\, and you may be able to find on street parking in several places.
URL:https://p.pbr4ky.com/our_org_event/support-our-veterans-and-the-va-5/2030-07-31/
LOCATION:Robert F. Stephens Courthouse Plaza\, 120 N Limestone\, Lexington\, KY\, 40507\, United States
CATEGORIES:Members,Protest,Public
END:VEVENT
BEGIN:VEVENT
DTSTART;TZID=America/New_York:20300807T120000
DTEND;TZID=America/New_York:20300807T130000
DTSTAMP:20260420T041419
CREATED:20251202T163704Z
LAST-MODIFIED:20251202T163706Z
UID:10000889-1912334400-1912338000@p.pbr4ky.com
SUMMARY:Support Our Veterans and the VA!
DESCRIPTION:PARKING: Downtown parking can be hard to find\, but you can park for 2 hours at the library with a validated ticket. Sometimes the library garage is also just open to the public\, and you may be able to find on street parking in several places.
URL:https://p.pbr4ky.com/our_org_event/support-our-veterans-and-the-va-5/2030-08-07/
LOCATION:Robert F. Stephens Courthouse Plaza\, 120 N Limestone\, Lexington\, KY\, 40507\, United States
CATEGORIES:Members,Protest,Public
END:VEVENT
BEGIN:VEVENT
DTSTART;TZID=America/New_York:20300814T120000
DTEND;TZID=America/New_York:20300814T130000
DTSTAMP:20260420T041419
CREATED:20251202T163704Z
LAST-MODIFIED:20251202T163706Z
UID:10000890-1912939200-1912942800@p.pbr4ky.com
SUMMARY:Support Our Veterans and the VA!
DESCRIPTION:PARKING: Downtown parking can be hard to find\, but you can park for 2 hours at the library with a validated ticket. Sometimes the library garage is also just open to the public\, and you may be able to find on street parking in several places.
URL:https://p.pbr4ky.com/our_org_event/support-our-veterans-and-the-va-5/2030-08-14/
LOCATION:Robert F. Stephens Courthouse Plaza\, 120 N Limestone\, Lexington\, KY\, 40507\, United States
CATEGORIES:Members,Protest,Public
END:VEVENT
BEGIN:VEVENT
DTSTART;TZID=America/New_York:20300821T120000
DTEND;TZID=America/New_York:20300821T130000
DTSTAMP:20260420T041419
CREATED:20251202T163704Z
LAST-MODIFIED:20251202T163706Z
UID:10000891-1913544000-1913547600@p.pbr4ky.com
SUMMARY:Support Our Veterans and the VA!
DESCRIPTION:PARKING: Downtown parking can be hard to find\, but you can park for 2 hours at the library with a validated ticket. Sometimes the library garage is also just open to the public\, and you may be able to find on street parking in several places.
URL:https://p.pbr4ky.com/our_org_event/support-our-veterans-and-the-va-5/2030-08-21/
LOCATION:Robert F. Stephens Courthouse Plaza\, 120 N Limestone\, Lexington\, KY\, 40507\, United States
CATEGORIES:Members,Protest,Public
END:VEVENT
BEGIN:VEVENT
DTSTART;TZID=America/New_York:20300828T120000
DTEND;TZID=America/New_York:20300828T130000
DTSTAMP:20260420T041419
CREATED:20251202T163704Z
LAST-MODIFIED:20251202T163706Z
UID:10000892-1914148800-1914152400@p.pbr4ky.com
SUMMARY:Support Our Veterans and the VA!
DESCRIPTION:PARKING: Downtown parking can be hard to find\, but you can park for 2 hours at the library with a validated ticket. Sometimes the library garage is also just open to the public\, and you may be able to find on street parking in several places.
URL:https://p.pbr4ky.com/our_org_event/support-our-veterans-and-the-va-5/2030-08-28/
LOCATION:Robert F. Stephens Courthouse Plaza\, 120 N Limestone\, Lexington\, KY\, 40507\, United States
CATEGORIES:Members,Protest,Public
END:VEVENT
BEGIN:VEVENT
DTSTART;TZID=America/New_York:20300904T120000
DTEND;TZID=America/New_York:20300904T130000
DTSTAMP:20260420T041419
CREATED:20251202T163704Z
LAST-MODIFIED:20251202T163706Z
UID:10000893-1914753600-1914757200@p.pbr4ky.com
SUMMARY:Support Our Veterans and the VA!
DESCRIPTION:PARKING: Downtown parking can be hard to find\, but you can park for 2 hours at the library with a validated ticket. Sometimes the library garage is also just open to the public\, and you may be able to find on street parking in several places.
URL:https://p.pbr4ky.com/our_org_event/support-our-veterans-and-the-va-5/2030-09-04/
LOCATION:Robert F. Stephens Courthouse Plaza\, 120 N Limestone\, Lexington\, KY\, 40507\, United States
CATEGORIES:Members,Protest,Public
END:VEVENT
BEGIN:VEVENT
DTSTART;TZID=America/New_York:20300911T120000
DTEND;TZID=America/New_York:20300911T130000
DTSTAMP:20260420T041419
CREATED:20251202T163704Z
LAST-MODIFIED:20251202T163706Z
UID:10000894-1915358400-1915362000@p.pbr4ky.com
SUMMARY:Support Our Veterans and the VA!
DESCRIPTION:PARKING: Downtown parking can be hard to find\, but you can park for 2 hours at the library with a validated ticket. Sometimes the library garage is also just open to the public\, and you may be able to find on street parking in several places.
URL:https://p.pbr4ky.com/our_org_event/support-our-veterans-and-the-va-5/2030-09-11/
LOCATION:Robert F. Stephens Courthouse Plaza\, 120 N Limestone\, Lexington\, KY\, 40507\, United States
CATEGORIES:Members,Protest,Public
END:VEVENT
BEGIN:VEVENT
DTSTART;TZID=America/New_York:20300918T120000
DTEND;TZID=America/New_York:20300918T130000
DTSTAMP:20260420T041419
CREATED:20251202T163704Z
LAST-MODIFIED:20251202T163706Z
UID:10000895-1915963200-1915966800@p.pbr4ky.com
SUMMARY:Support Our Veterans and the VA!
DESCRIPTION:PARKING: Downtown parking can be hard to find\, but you can park for 2 hours at the library with a validated ticket. Sometimes the library garage is also just open to the public\, and you may be able to find on street parking in several places.
URL:https://p.pbr4ky.com/our_org_event/support-our-veterans-and-the-va-5/2030-09-18/
LOCATION:Robert F. Stephens Courthouse Plaza\, 120 N Limestone\, Lexington\, KY\, 40507\, United States
CATEGORIES:Members,Protest,Public
END:VEVENT
BEGIN:VEVENT
DTSTART;TZID=America/New_York:20300925T120000
DTEND;TZID=America/New_York:20300925T130000
DTSTAMP:20260420T041419
CREATED:20251202T163704Z
LAST-MODIFIED:20251202T163706Z
UID:10000896-1916568000-1916571600@p.pbr4ky.com
SUMMARY:Support Our Veterans and the VA!
DESCRIPTION:PARKING: Downtown parking can be hard to find\, but you can park for 2 hours at the library with a validated ticket. Sometimes the library garage is also just open to the public\, and you may be able to find on street parking in several places.
URL:https://p.pbr4ky.com/our_org_event/support-our-veterans-and-the-va-5/2030-09-25/
LOCATION:Robert F. Stephens Courthouse Plaza\, 120 N Limestone\, Lexington\, KY\, 40507\, United States
CATEGORIES:Members,Protest,Public
END:VEVENT
BEGIN:VEVENT
DTSTART;TZID=America/New_York:20301002T120000
DTEND;TZID=America/New_York:20301002T130000
DTSTAMP:20260420T041419
CREATED:20251202T163704Z
LAST-MODIFIED:20251202T163706Z
UID:10000897-1917172800-1917176400@p.pbr4ky.com
SUMMARY:Support Our Veterans and the VA!
DESCRIPTION:PARKING: Downtown parking can be hard to find\, but you can park for 2 hours at the library with a validated ticket. Sometimes the library garage is also just open to the public\, and you may be able to find on street parking in several places.
URL:https://p.pbr4ky.com/our_org_event/support-our-veterans-and-the-va-5/2030-10-02/
LOCATION:Robert F. Stephens Courthouse Plaza\, 120 N Limestone\, Lexington\, KY\, 40507\, United States
CATEGORIES:Members,Protest,Public
END:VEVENT
BEGIN:VEVENT
DTSTART;TZID=America/New_York:20301009T120000
DTEND;TZID=America/New_York:20301009T130000
DTSTAMP:20260420T041419
CREATED:20251202T163704Z
LAST-MODIFIED:20251202T163706Z
UID:10000898-1917777600-1917781200@p.pbr4ky.com
SUMMARY:Support Our Veterans and the VA!
DESCRIPTION:PARKING: Downtown parking can be hard to find\, but you can park for 2 hours at the library with a validated ticket. Sometimes the library garage is also just open to the public\, and you may be able to find on street parking in several places.
URL:https://p.pbr4ky.com/our_org_event/support-our-veterans-and-the-va-5/2030-10-09/
LOCATION:Robert F. Stephens Courthouse Plaza\, 120 N Limestone\, Lexington\, KY\, 40507\, United States
CATEGORIES:Members,Protest,Public
END:VEVENT
END:VCALENDAR