BEGIN:VCALENDAR
VERSION:2.0
PRODID:-//PBR4KY - ECPv6.15.16.1//NONSGML v1.0//EN
CALSCALE:GREGORIAN
METHOD:PUBLISH
X-WR-CALNAME:PBR4KY
X-ORIGINAL-URL:https://p.pbr4ky.com
X-WR-CALDESC:Events for PBR4KY
REFRESH-INTERVAL;VALUE=DURATION:PT1H
X-Robots-Tag:noindex
X-PUBLISHED-TTL:PT1H
BEGIN:VTIMEZONE
TZID:America/New_York
BEGIN:DAYLIGHT
TZOFFSETFROM:-0500
TZOFFSETTO:-0400
TZNAME:EDT
DTSTART:20270314T070000
END:DAYLIGHT
BEGIN:STANDARD
TZOFFSETFROM:-0400
TZOFFSETTO:-0500
TZNAME:EST
DTSTART:20271107T060000
END:STANDARD
BEGIN:DAYLIGHT
TZOFFSETFROM:-0500
TZOFFSETTO:-0400
TZNAME:EDT
DTSTART:20280312T070000
END:DAYLIGHT
BEGIN:STANDARD
TZOFFSETFROM:-0400
TZOFFSETTO:-0500
TZNAME:EST
DTSTART:20281105T060000
END:STANDARD
BEGIN:DAYLIGHT
TZOFFSETFROM:-0500
TZOFFSETTO:-0400
TZNAME:EDT
DTSTART:20290311T070000
END:DAYLIGHT
BEGIN:STANDARD
TZOFFSETFROM:-0400
TZOFFSETTO:-0500
TZNAME:EST
DTSTART:20291104T060000
END:STANDARD
END:VTIMEZONE
BEGIN:VEVENT
DTSTART;TZID=America/New_York:20280401T130000
DTEND;TZID=America/New_York:20280401T150000
DTSTAMP:20260419T180937
CREATED:20251009T185020Z
LAST-MODIFIED:20251013T213831Z
UID:10000506-1838206800-1838214000@p.pbr4ky.com
SUMMARY:Saturday Afternoon Tea
DESCRIPTION:Come join us for one of our OG roadside protests! This has become our largest weekly protest and for good reason\, it’s a BLAST!! \nNo sign? No problem! We’ve got signs to spare!! \nSee you on the streets! \nIntersection of Sir Barton Way and Man O’ War Blvd
URL:https://p.pbr4ky.com/our_org_event/saturday-afternoon-tea/2028-04-01/
CATEGORIES:Members,Protest,Public
END:VEVENT
BEGIN:VEVENT
DTSTART;TZID=America/New_York:20280405T120000
DTEND;TZID=America/New_York:20280405T130000
DTSTAMP:20260419T180937
CREATED:20251202T163704Z
LAST-MODIFIED:20251202T163706Z
UID:10000767-1838548800-1838552400@p.pbr4ky.com
SUMMARY:Support Our Veterans and the VA!
DESCRIPTION:PARKING: Downtown parking can be hard to find\, but you can park for 2 hours at the library with a validated ticket. Sometimes the library garage is also just open to the public\, and you may be able to find on street parking in several places.
URL:https://p.pbr4ky.com/our_org_event/support-our-veterans-and-the-va-5/2028-04-05/
LOCATION:Robert F. Stephens Courthouse Plaza\, 120 N Limestone\, Lexington\, KY\, 40507\, United States
CATEGORIES:Members,Protest,Public
END:VEVENT
BEGIN:VEVENT
DTSTART;TZID=America/New_York:20280408T130000
DTEND;TZID=America/New_York:20280408T150000
DTSTAMP:20260419T180937
CREATED:20251009T185020Z
LAST-MODIFIED:20251013T213831Z
UID:10000507-1838811600-1838818800@p.pbr4ky.com
SUMMARY:Saturday Afternoon Tea
DESCRIPTION:Come join us for one of our OG roadside protests! This has become our largest weekly protest and for good reason\, it’s a BLAST!! \nNo sign? No problem! We’ve got signs to spare!! \nSee you on the streets! \nIntersection of Sir Barton Way and Man O’ War Blvd
URL:https://p.pbr4ky.com/our_org_event/saturday-afternoon-tea/2028-04-08/
CATEGORIES:Members,Protest,Public
END:VEVENT
BEGIN:VEVENT
DTSTART;TZID=America/New_York:20280412T120000
DTEND;TZID=America/New_York:20280412T130000
DTSTAMP:20260419T180937
CREATED:20251202T163704Z
LAST-MODIFIED:20251202T163706Z
UID:10000768-1839153600-1839157200@p.pbr4ky.com
SUMMARY:Support Our Veterans and the VA!
DESCRIPTION:PARKING: Downtown parking can be hard to find\, but you can park for 2 hours at the library with a validated ticket. Sometimes the library garage is also just open to the public\, and you may be able to find on street parking in several places.
URL:https://p.pbr4ky.com/our_org_event/support-our-veterans-and-the-va-5/2028-04-12/
LOCATION:Robert F. Stephens Courthouse Plaza\, 120 N Limestone\, Lexington\, KY\, 40507\, United States
CATEGORIES:Members,Protest,Public
END:VEVENT
BEGIN:VEVENT
DTSTART;TZID=America/New_York:20280412T190000
DTEND;TZID=America/New_York:20280412T210000
DTSTAMP:20260419T180937
CREATED:20251219T020637Z
LAST-MODIFIED:20251219T020637Z
UID:10001034-1839178800-1839186000@p.pbr4ky.com
SUMMARY:Big Room Group Meeting
DESCRIPTION:Monthly Big Room Meeting for the group to get together and discuss what we’re doing and what we have planned.
URL:https://p.pbr4ky.com/our_org_event/big-room-group-meeting-3/2028-04-12/
LOCATION:Beaumont Presbyterian Church\, 1070 Lane Allen Rd\, Lexington\, KY\, 40504\, United States
CATEGORIES:Members
END:VEVENT
BEGIN:VEVENT
DTSTART;TZID=America/New_York:20280415T130000
DTEND;TZID=America/New_York:20280415T150000
DTSTAMP:20260419T180937
CREATED:20251009T185020Z
LAST-MODIFIED:20251013T213831Z
UID:10000508-1839416400-1839423600@p.pbr4ky.com
SUMMARY:Saturday Afternoon Tea
DESCRIPTION:Come join us for one of our OG roadside protests! This has become our largest weekly protest and for good reason\, it’s a BLAST!! \nNo sign? No problem! We’ve got signs to spare!! \nSee you on the streets! \nIntersection of Sir Barton Way and Man O’ War Blvd
URL:https://p.pbr4ky.com/our_org_event/saturday-afternoon-tea/2028-04-15/
CATEGORIES:Members,Protest,Public
END:VEVENT
BEGIN:VEVENT
DTSTART;TZID=America/New_York:20280419T120000
DTEND;TZID=America/New_York:20280419T130000
DTSTAMP:20260419T180937
CREATED:20251202T163704Z
LAST-MODIFIED:20251202T163706Z
UID:10000769-1839758400-1839762000@p.pbr4ky.com
SUMMARY:Support Our Veterans and the VA!
DESCRIPTION:PARKING: Downtown parking can be hard to find\, but you can park for 2 hours at the library with a validated ticket. Sometimes the library garage is also just open to the public\, and you may be able to find on street parking in several places.
URL:https://p.pbr4ky.com/our_org_event/support-our-veterans-and-the-va-5/2028-04-19/
LOCATION:Robert F. Stephens Courthouse Plaza\, 120 N Limestone\, Lexington\, KY\, 40507\, United States
CATEGORIES:Members,Protest,Public
END:VEVENT
BEGIN:VEVENT
DTSTART;TZID=America/New_York:20280422T130000
DTEND;TZID=America/New_York:20280422T150000
DTSTAMP:20260419T180937
CREATED:20251009T185020Z
LAST-MODIFIED:20251013T213831Z
UID:10000509-1840021200-1840028400@p.pbr4ky.com
SUMMARY:Saturday Afternoon Tea
DESCRIPTION:Come join us for one of our OG roadside protests! This has become our largest weekly protest and for good reason\, it’s a BLAST!! \nNo sign? No problem! We’ve got signs to spare!! \nSee you on the streets! \nIntersection of Sir Barton Way and Man O’ War Blvd
URL:https://p.pbr4ky.com/our_org_event/saturday-afternoon-tea/2028-04-22/
CATEGORIES:Members,Protest,Public
END:VEVENT
BEGIN:VEVENT
DTSTART;TZID=America/New_York:20280426T120000
DTEND;TZID=America/New_York:20280426T130000
DTSTAMP:20260419T180938
CREATED:20251202T163704Z
LAST-MODIFIED:20251202T163706Z
UID:10000770-1840363200-1840366800@p.pbr4ky.com
SUMMARY:Support Our Veterans and the VA!
DESCRIPTION:PARKING: Downtown parking can be hard to find\, but you can park for 2 hours at the library with a validated ticket. Sometimes the library garage is also just open to the public\, and you may be able to find on street parking in several places.
URL:https://p.pbr4ky.com/our_org_event/support-our-veterans-and-the-va-5/2028-04-26/
LOCATION:Robert F. Stephens Courthouse Plaza\, 120 N Limestone\, Lexington\, KY\, 40507\, United States
CATEGORIES:Members,Protest,Public
END:VEVENT
BEGIN:VEVENT
DTSTART;TZID=America/New_York:20280429T130000
DTEND;TZID=America/New_York:20280429T150000
DTSTAMP:20260419T180938
CREATED:20251009T185020Z
LAST-MODIFIED:20251013T213831Z
UID:10000510-1840626000-1840633200@p.pbr4ky.com
SUMMARY:Saturday Afternoon Tea
DESCRIPTION:Come join us for one of our OG roadside protests! This has become our largest weekly protest and for good reason\, it’s a BLAST!! \nNo sign? No problem! We’ve got signs to spare!! \nSee you on the streets! \nIntersection of Sir Barton Way and Man O’ War Blvd
URL:https://p.pbr4ky.com/our_org_event/saturday-afternoon-tea/2028-04-29/
CATEGORIES:Members,Protest,Public
END:VEVENT
END:VCALENDAR